BEGIN:VCALENDAR
VERSION:2.0
PRODID:-//Regenerate Cascadia - ECPv6.15.20//NONSGML v1.0//EN
CALSCALE:GREGORIAN
METHOD:PUBLISH
X-ORIGINAL-URL:https://regeneratecascadia.org
X-WR-CALDESC:Events for Regenerate Cascadia
REFRESH-INTERVAL;VALUE=DURATION:PT1H
X-Robots-Tag:noindex
X-PUBLISHED-TTL:PT1H
BEGIN:VTIMEZONE
TZID:America/Los_Angeles
BEGIN:DAYLIGHT
TZOFFSETFROM:-0800
TZOFFSETTO:-0700
TZNAME:PDT
DTSTART:20220313T100000
END:DAYLIGHT
BEGIN:STANDARD
TZOFFSETFROM:-0700
TZOFFSETTO:-0800
TZNAME:PST
DTSTART:20221106T090000
END:STANDARD
BEGIN:DAYLIGHT
TZOFFSETFROM:-0800
TZOFFSETTO:-0700
TZNAME:PDT
DTSTART:20230312T100000
END:DAYLIGHT
BEGIN:STANDARD
TZOFFSETFROM:-0700
TZOFFSETTO:-0800
TZNAME:PST
DTSTART:20231105T090000
END:STANDARD
BEGIN:DAYLIGHT
TZOFFSETFROM:-0800
TZOFFSETTO:-0700
TZNAME:PDT
DTSTART:20240310T100000
END:DAYLIGHT
BEGIN:STANDARD
TZOFFSETFROM:-0700
TZOFFSETTO:-0800
TZNAME:PST
DTSTART:20241103T090000
END:STANDARD
END:VTIMEZONE
BEGIN:VEVENT
DTSTART;TZID=America/Los_Angeles:20231103T173000
DTEND;TZID=America/Los_Angeles:20231103T190000
DTSTAMP:20260424T014712
CREATED:20231025T131024Z
LAST-MODIFIED:20231104T001624Z
UID:10000622-1699032600-1699038000@regeneratecascadia.org
SUMMARY:Cascadia Summit: Opening Gathering
DESCRIPTION:Join us for the opening of our first-ever Cascadia bioregional summit and the launch of Regenerate Cascadia\, a program working for the long-term regeneration of our bioregion and home.  \n\nAt 5:30 pm\, we will open with an introduction and then a presentation by Skagit Elder Jay Bowen.\nAt 6 pm\, we will set the context for the bioregional summit\, and share a brief retrospective of our 30 day whirlwind tour and impacts. \n\nZoom link: https://us06web.zoom.us/j/82604157032?pwd=LhTK2cMuKms5AEoWBsSegP6ey03mH9.1 \nLet us know in t.me/regencascadia if you are having any issue.
URL:https://regeneratecascadia.org/event/the-community-presentations-workshops/
CATEGORIES:RC Community
ATTACH;FMTTYPE=image/png:https://regeneratecascadia.org/wp-content/uploads/2023/07/cascadiabrandon_a_line_drawing_using_brown_and_white_of_a_mycel_4b228bcd-edbb-4ffd-bffa-1bf73de8755c.png
END:VEVENT
END:VCALENDAR